BEGIN:VCALENDAR
VERSION:2.0
PRODID:-//hacksw/handcal//NONSGML v1.0//EN
BEGIN:VEVENT
DTSTART:20260602T170000Z
DTEND:20260602T193000Z
LOCATION:Mines Paris - PSL (L108A) \n60, Boulevard Saint-Michel \n75006 PARIS
ORGANIZER;CN=Philippe KALOUSDIAN:MAILTO:philippe.kalousdian@kalousdian.fr
SUMMARY:IA et licornes - Arthur Waller (CEO de Pennylane) - Cocktail des Mines
DESCRIPTION:Le 2 juin 2026 prochain, Mines Paris Alumni, Mines Saint-Etienne Alumni et Mines Nancy Alumni sont ravis d’accueillir leurs réseaux au sein de l’Hôtel de Vendôme pour le Cocktail des Mines avec pour...
URL:https://inter-mines.org/fr/event/ia-et-licornes-arthur-waller-ceo-de-pennylane-cocktail-des-mines/2026/06/02/2659
BEGIN:VALARM
TRIGGER:-P0DT1H0M0S
ACTION:DISPLAY
END:VALARM
END:VEVENT
END:VCALENDAR