BEGIN:VCALENDAR
VERSION:2.0
PRODID:-//hacksw/handcal//NONSGML v1.0//EN
BEGIN:VEVENT
DTSTART:20260406T090000Z
DTEND:20260420T100000Z
LOCATION:CHAMPAGNE
ORGANIZER;CN=Jean-Pierre GASSIAN - Mines Oenologie:MAILTO:gassian@noos.fr
SUMMARY:WE Mines Oenologie en Champagne Règlement du solde Participants
DESCRIPTION:Évènement ouvert uniquement aux participants au Week End du Club en Champagne pour le paiement du solde
URL:https://inter-mines.org/fr/group/mines-oenologie/59/calendar/we-mines-oenologie-en-champagne-reglement-du-solde-participants/2026/04/06/2650
BEGIN:VALARM
TRIGGER:-P0DT1H0M0S
ACTION:DISPLAY
END:VALARM
END:VEVENT
END:VCALENDAR