BEGIN:VCALENDAR
VERSION:2.0
PRODID:-//hacksw/handcal//NONSGML v1.0//EN
BEGIN:VEVENT
DTSTART:20260428T163000Z
DTEND:20260428T183000Z
LOCATION:Place Benoît-Crépu \nentrée parking St-Georges \n69005 Lyon
ORGANIZER;CN=Sebastien lavabre - Inter-Mines Rhône-Alpes:MAILTO:associationalumni042@gmail.com
SUMMARY:Visite de Lyon
DESCRIPTION:\nVisite DES ANCIENS PORTS DU BASSIN DE LA SAÔNE, DE ST-GEORGES À ST PAUL\nNotre guide sera, comme d’habitude, Nicolas Bruno Jacquet  Les quais de Saône possèdent une uniformité qui ne doit pas...
URL:https://inter-mines.org/fr/group/inter-mines-rhone-alpes/33/calendar/visite-de-lyon/2026/04/28/2645
BEGIN:VALARM
TRIGGER:-P0DT1H0M0S
ACTION:DISPLAY
END:VALARM
END:VEVENT
END:VCALENDAR