BEGIN:VCALENDAR
VERSION:2.0
PRODID:-//hacksw/handcal//NONSGML v1.0//EN
BEGIN:VEVENT
DTSTART:20260502T120000Z
DTEND:20260502T133000Z
LOCATION:Monnaie de Paris \n2, Rue Guénégaud \n75006 PARIS
ORGANIZER;CN=Bruno SEZNEC - Mines Culture:MAILTO:consult@seznec.net
SUMMARY:Visite guidée à la Monnaie de Paris le 2 mai 2026
DESCRIPTION:\n         @page { size: 21cm 29.7cm; margin: 2cm }\n         p { line-height: 115%; text-align: left; page-break-inside: auto; orphans: 2; widows: 2; margin-bottom: 0.25cm; border: none; padding:...
URL:https://inter-mines.org/fr/group/mines-culture/60/calendar/visite-guidee-a-la-monnaie-de-paris-le-2-mai-2026/2026/05/02/2636
BEGIN:VALARM
TRIGGER:-P0DT1H0M0S
ACTION:DISPLAY
END:VALARM
END:VEVENT
END:VCALENDAR