BEGIN:VCALENDAR
VERSION:2.0
PRODID:-//hacksw/handcal//NONSGML v1.0//EN
BEGIN:VEVENT
DTSTART:20261106T164500Z
DTEND:20261106T174500Z
LOCATION:A définir \n67000 STRASBOURG
ORGANIZER;CN=Frank KUPFERLE - Intermines Alsace:MAILTO:frank.kupferle@gmail.com
SUMMARY:Concours Ré-inventer la planète - Edition 2026
DESCRIPTION:\nHege Conseils & Intermines Alsace vous invitent à partiper auConcours RE INVENTER LA PLANETE\nVendredi 6 novembre 2026 (à confirmer)\nCe concours est organisé par le cabinet Hege Conseils. Pour la...
URL:https://inter-mines.org/fr/group/intermines-alsace/26/calendar/concours-re-inventer-la-planete-edition-2026/2026/11/06/2609
BEGIN:VALARM
TRIGGER:-P0DT1H0M0S
ACTION:DISPLAY
END:VALARM
END:VEVENT
END:VCALENDAR