BEGIN:VCALENDAR
VERSION:2.0
PRODID:-//hacksw/handcal//NONSGML v1.0//EN
BEGIN:VEVENT
DTSTART:20260420T163000Z
DTEND:20260420T200000Z
LOCATION:Restaurant Mandala \n14, Rue du Faubourg-de-Saverne \n67000 STRASBOURG
ORGANIZER;CN=Frank KUPFERLE - Intermines Alsace:MAILTO:frank.kupferle@gmail.com
SUMMARY:Nos plus belles ballades dans les Vosges [Strasbourg]
DESCRIPTION:& Mines Plus & Intermines Alsace vous invitent à une conférence sur le thème\nNos plus belles ballades dans les Vosgespar Lucie et Christian DOLLE\nVenez prendre un grand bol d’air frais et partez à...
URL:https://inter-mines.org/fr/group/intermines-alsace/26/calendar/nos-plus-belles-ballades-dans-les-vosges-strasbourg/2026/04/20/2591
BEGIN:VALARM
TRIGGER:-P0DT1H0M0S
ACTION:DISPLAY
END:VALARM
END:VEVENT
END:VCALENDAR