BEGIN:VCALENDAR
VERSION:2.0
PRODID:-//hacksw/handcal//NONSGML v1.0//EN
BEGIN:VEVENT
DTSTART:20260312T120000Z
DTEND:20260312T130000Z
LOCATION:LAUSANNE (CH)
ORGANIZER;CN=Eric SINOT - Intermines Suisse:MAILTO:esinot@bluewin.ch
SUMMARY:Quand la diversité transforme le leadership
DESCRIPTION:En partenariat avec l'ASAGE (Association Suisse des Amis des GE),Jeudi 12 mars 2026 au Casino de Montbenon à Lausanne (CH)\nL’équipeASAGE Carrières a le plaisir de vous inviter à participer aux10èmes ...
URL:https://inter-mines.org/fr/group/intermines-suisse/38/calendar/quand-la-diversite-transforme-le-leadership/2026/03/12/2587
BEGIN:VALARM
TRIGGER:-P0DT1H0M0S
ACTION:DISPLAY
END:VALARM
END:VEVENT
END:VCALENDAR