BEGIN:VCALENDAR
VERSION:2.0
PRODID:-//hacksw/handcal//NONSGML v1.0//EN
BEGIN:VEVENT
DTSTART:20260122T180000Z
DTEND:20260122T190000Z
LOCATION:Le Bistrot Gourmand \n60, Route des Rutys \n74370 ANNECY
ORGANIZER;CN=Serge NEUMAN - Inter-Mines Rhône-Alpes:MAILTO:serge.neuman@gmail.com
SUMMARY:Afterwork Janvier 2026
DESCRIPTION:Rendez-vous à partir de 19h au LBG Le Bistrot Gourmand https://maps.app.goo.gl/YKWf8AYtuY7AT8wX6\nHeure de fin ... À convenance, Ordre du jour :discussions libres & résautage.petit retour du Plouf...
URL:https://inter-mines.org/fr/group/inter-mines-rhone-alpes/33/calendar/afterwork-janvier-2026/2026/01/22/2580
BEGIN:VALARM
TRIGGER:-P0DT1H0M0S
ACTION:DISPLAY
END:VALARM
END:VEVENT
END:VCALENDAR