BEGIN:VCALENDAR
VERSION:2.0
PRODID:-//hacksw/handcal//NONSGML v1.0//EN
BEGIN:VEVENT
DTSTART:20260314T140000Z
DTEND:20260314T150000Z
LOCATION:Cité de la Musique
ORGANIZER;CN=Bruno SEZNEC - Mines Culture:MAILTO:consult@seznec.net
SUMMARY:Concert immersif à la Philharmonie le 14 mars 2026 à 15h
DESCRIPTION:En présence virtuelle de la célèbre pianiste Yuja Wang, l’installation immersive Playing with Fire propose d’expérimenter une nouvelle forme de concert. Le répertoire choisi et les gestes virtuoses de...
URL:https://inter-mines.org/fr/group/mines-culture/60/calendar/concert-immersif-a-la-philharmonie-le-14-mars-2026-a-15h/2026/03/14/2558
BEGIN:VALARM
TRIGGER:-P0DT1H0M0S
ACTION:DISPLAY
END:VALARM
END:VEVENT
END:VCALENDAR