BEGIN:VCALENDAR
VERSION:2.0
PRODID:-//hacksw/handcal//NONSGML v1.0//EN
BEGIN:VEVENT
DTSTART:20260410T183000Z
DTEND:20260410T200000Z
LOCATION:Salle Gaveau \n45, Rue La Boétie \n75008 PARIS
ORGANIZER;CN=Bruno SEZNEC - Mines Culture:MAILTO:consult@seznec.net
SUMMARY:Récital de piano de Natacha Kudritskaya le 10 avril 2026
DESCRIPTION:Récital de piano de Natacha Kudritskaya le 10 avril 2026\nLe club mines culture te propose de t’inscrire pour le récital de Natacha Kudritskaya vendredi 10 avril 2026à 20 h 30, dans le cadre cossu et ...
URL:https://inter-mines.org/fr/group/mines-culture/60/calendar/recital-de-piano-de-natacha-kudritskaya-le-10-avril-2026/2026/04/10/2554
BEGIN:VALARM
TRIGGER:-P0DT1H0M0S
ACTION:DISPLAY
END:VALARM
END:VEVENT
END:VCALENDAR