BEGIN:VCALENDAR
VERSION:2.0
PRODID:-//hacksw/handcal//NONSGML v1.0//EN
BEGIN:VEVENT
DTSTART:20260304T164500Z
DTEND:20260304T200000Z
LOCATION:Restaurant CFF (5 min à pieds gare) \n7, Rue de la Gare de Triage \n1020 RENENS (VD)
ORGANIZER;CN=Stéphane LORIN - Intermines Suisse:MAILTO:stephane.lorin777@gmail.com
SUMMARY:Assemblée Générale Intermines Suisse avec apéro ouvert à toutes et tous
DESCRIPTION:🗳️Assemblée Générale Intermines Suisse en présentiel ou visio (gratuit, sans condition de cotisation), suivi d'un apéro-riche.\n📋Programme :- 17h45 - 18h : Accueil des participant-e-s sur place et en ...
URL:https://inter-mines.org/fr/group/intermines-suisse/38/calendar/assemblee-generale-intermines-suisse-avec-apero-ouvert-a-toutes-et-tous/2026/03/04/2553
BEGIN:VALARM
TRIGGER:-P0DT1H0M0S
ACTION:DISPLAY
END:VALARM
END:VEVENT
END:VCALENDAR