BEGIN:VCALENDAR
VERSION:2.0
PRODID:-//hacksw/handcal//NONSGML v1.0//EN
BEGIN:VEVENT
DTSTART:20260410T123000Z
DTEND:20260413T120000Z
LOCATION:Champagne \n51100 Reims
ORGANIZER;CN=Jean-Pierre GASSIAN - Mines Oenologie:MAILTO:gassian@noos.fr
SUMMARY:Week End en Champagne 2026
DESCRIPTION:Depuis 15 ans, le club œnologique des Mines n’avait pas mis au programme la Champagne. En 2026, venez découvrir (ou redécouvrir) ses paysages et visiter quelques grandes maisons champenoises. Le...
URL:https://inter-mines.org/fr/group/mines-oenologie/59/calendar/week-end-en-champagne-2026/2026/04/10/2546
BEGIN:VALARM
TRIGGER:-P0DT1H0M0S
ACTION:DISPLAY
END:VALARM
END:VEVENT
END:VCALENDAR