BEGIN:VCALENDAR
VERSION:2.0
PRODID:-//hacksw/handcal//NONSGML v1.0//EN
BEGIN:VEVENT
DTSTART:20260207T131500Z
DTEND:20260207T154500Z
LOCATION:Cathedrale Notre-Dame de Paris
ORGANIZER;CN=Bruno SEZNEC - Mines Culture:MAILTO:consult@seznec.net
SUMMARY:Visite de Notre-Dame de Paris
DESCRIPTION:Le club mines culture te propose une visite guidée de la cathédrale Notre-Dame de Paris, après sareconstruction partielle, sous la conduite de notre conférencier Pascal Payen-Appenzeller, accompagné...
URL:https://inter-mines.org/fr/group/mines-culture/60/calendar/visite-de-notre-dame-de-paris/2026/02/07/2543
BEGIN:VALARM
TRIGGER:-P0DT1H0M0S
ACTION:DISPLAY
END:VALARM
END:VEVENT
END:VCALENDAR