BEGIN:VCALENDAR
VERSION:2.0
PRODID:-//hacksw/handcal//NONSGML v1.0//EN
BEGIN:VEVENT
DTSTART:20260117T140000Z
DTEND:20260117T160000Z
LOCATION:Philharmonie de Paris
ORGANIZER;CN=Bruno SEZNEC - Mines Culture:MAILTO:consult@seznec.net
SUMMARY:Concert à la Philharmonie
DESCRIPTION:\nCe concert de l’orchestre Pasdeloup dirigé par Sora Elisabeth Lee proposera 5 œuvres :    Le    concerto pour piano à la main gauche de Benjamin Britten joué par     Maxime Zecchin      L’Arlésienne...
URL:https://inter-mines.org/fr/group/mines-culture/60/calendar/concert-a-la-philharmonie/2026/01/17/2503
BEGIN:VALARM
TRIGGER:-P0DT1H0M0S
ACTION:DISPLAY
END:VALARM
END:VEVENT
END:VCALENDAR