BEGIN:VCALENDAR
VERSION:2.0
PRODID:-//hacksw/handcal//NONSGML v1.0//EN
BEGIN:VEVENT
DTSTART:20251214T100000Z
DTEND:20251214T120000Z
LOCATION:Philarmonie de Paris
ORGANIZER;CN=Bruno SEZNEC - Mines Culture:MAILTO:consult@seznec.net
SUMMARY:Concert à la Philharmonie le 14 décembre 2025 à 11h
DESCRIPTION:Concert à la Philharmonie le 14 décembre 2025 à 11h\nCe concert de l’orchestre National d’Ile-de-France dirigé par Dina Gilbert, résolument festif, met à l’honneur le trompettiste Pacho Flores dans un...
URL:https://inter-mines.org/fr/group/mines-culture/60/calendar/concert-a-la-philharmonie-le-14-decembre-2025-a-11h/2025/12/14/2459
BEGIN:VALARM
TRIGGER:-P0DT1H0M0S
ACTION:DISPLAY
END:VALARM
END:VEVENT
END:VCALENDAR