BEGIN:VCALENDAR
VERSION:2.0
PRODID:-//hacksw/handcal//NONSGML v1.0//EN
BEGIN:VEVENT
DTSTART:20260626T180000Z
DTEND:20260627T060000Z
LOCATION:IBIS STYLES Basel City \n44, Grosspeterstrasse \n4052 BASEL
ORGANIZER;CN=Stéphane LORIN - Intermines Suisse:MAILTO:stephane.lorin777@gmail.com
SUMMARY:Réunion des responsables de groupes géographiques à Bâle en 2026
DESCRIPTION:Chers et chères camarades\ncette année, j'ai le plaisir de vous inviter en Suisse à Bâle pour notre rencontre annuelle.\nObjet de cette invitation : réservation de l'hotel pour la nuit du vendredi 26 ...
URL:https://inter-mines.org/fr/group/intermines-suisse/38/calendar/reunion-des-responsables-de-groupes-geographiques-a-bale-en-2026/2026/06/26/2442
BEGIN:VALARM
TRIGGER:-P0DT1H0M0S
ACTION:DISPLAY
END:VALARM
END:VEVENT
END:VCALENDAR