BEGIN:VCALENDAR
VERSION:2.0
PRODID:-//hacksw/handcal//NONSGML v1.0//EN
BEGIN:VEVENT
DTSTART:20250911T103000Z
DTEND:20250911T120000Z
LOCATION:https://zoom.us/j/9384996837
ORGANIZER;CN=Nathalie Cremezi:MAILTO:nathalie.cremezi@inter-mines.org
SUMMARY:Webinar : Rebondir - Planification de carrière agile
DESCRIPTION:Code d'accès du webinar 388119...
URL:https://inter-mines.org/fr/event/webinar-rebondir-planification-de-carriere-agile/2025/09/11/2403
BEGIN:VALARM
TRIGGER:-P0DT1H0M0S
ACTION:DISPLAY
END:VALARM
END:VEVENT
END:VCALENDAR