BEGIN:VCALENDAR
VERSION:2.0
PRODID:-//hacksw/handcal//NONSGML v1.0//EN
BEGIN:VEVENT
DTSTART:20251017T110000Z
DTEND:20251017T120000Z
LOCATION:https://us02web.zoom.us/j/89798635527?pwd=SiFaYRmDbhRl8quXayQMRSQCf9Tz2t.1
ORGANIZER;CN=Nathalie Cremezi:MAILTO:nathalie.cremezi@inter-mines.org
SUMMARY:Webinar : "Se présenter en 3 minutes : Le Pitch d’entretien"
DESCRIPTION:Code d'accès du webinar 269614...
URL:https://inter-mines.org/fr/event/webinar-se-presenter-en-3-minutes-le-pitch-d-entretien/2025/10/17/2400
BEGIN:VALARM
TRIGGER:-P0DT1H0M0S
ACTION:DISPLAY
END:VALARM
END:VEVENT
END:VCALENDAR