BEGIN:VCALENDAR
VERSION:2.0
PRODID:-//hacksw/handcal//NONSGML v1.0//EN
BEGIN:VEVENT
DTSTART:20250925T070000Z
DTEND:20250925T090000Z
LOCATION:École des Mines de Paris PSL - N° de la salle (parcours fléché depuis l'accueil) \n60 Bd Saint-Michel \n75006 PARIS
ORGANIZER;CN=Nathalie Cremezi:MAILTO:nathalie.cremezi@inter-mines.org
SUMMARY:Atelier  : "Surcharge mentale et clarté d’action"  à  l'École des Mines de Paris PSL
DESCRIPTION: Public visé : manager et décideurs en situation de :environnement managérial tendu,pilotage de projets complexes,accompagnement de la transformation.Nous sommes dans un environnement où la surcharge ...
URL:https://inter-mines.org/fr/event/atelier-surcharge-mentale-et-clarte-d-action-a-l-ecole-des-mines-de-paris-psl/2025/09/25/2397
BEGIN:VALARM
TRIGGER:-P0DT1H0M0S
ACTION:DISPLAY
END:VALARM
END:VEVENT
END:VCALENDAR