BEGIN:VCALENDAR
VERSION:2.0
PRODID:-//hacksw/handcal//NONSGML v1.0//EN
BEGIN:VEVENT
DTSTART:20250910T163000Z
DTEND:20250910T180000Z
LOCATION:https://us06web.zoom.us/j/84426174696?pwd=1H8rHCkB5lOmLBgIeecJnqRcFhysXc.1
ORGANIZER;CN=Nathalie Cremezi:MAILTO:nathalie.cremezi@inter-mines.org
SUMMARY:Webinar : 10 conseils clés pour une reconversion réussie
DESCRIPTION:Joëlle & Roxane vont vous expliquer en détail les étapes clés réussir sa reconversion professionnelle. C’est un sujet qu’elles maîtrisent particulièrement bien, avec le recul et la richesse des...
URL:https://inter-mines.org/fr/event/webinar-10-conseils-cles-pour-une-reconversion-reussie/2025/09/10/2389
BEGIN:VALARM
TRIGGER:-P0DT1H0M0S
ACTION:DISPLAY
END:VALARM
END:VEVENT
END:VCALENDAR