BEGIN:VCALENDAR
VERSION:2.0
PRODID:-//hacksw/handcal//NONSGML v1.0//EN
BEGIN:VEVENT
DTSTART:20250514T163000Z
DTEND:20250514T180000Z
LOCATION:Mines de Paris \n60, Boulevard Saint-Michel \n75006 PARIS
ORGANIZER;CN=Nicolas PLANTIER - Mines Industrie:MAILTO:n.plantier6@gmail.com
SUMMARY:Table ronde - le Lean en France : de la théorie à l'usine
DESCRIPTION:Le Lean en France : de la théorie à l'usineEn France comme à l’international, le Lean a révolutionné la production manufacturière et s’impose aujourd’hui comme une source majeure de compétitivité...
URL:https://inter-mines.org/fr/group/mines-industrie/69/calendar/table-ronde-le-lean-en-france-de-la-theorie-a-l-usine/2025/05/14/2345
BEGIN:VALARM
TRIGGER:-P0DT1H0M0S
ACTION:DISPLAY
END:VALARM
END:VEVENT
END:VCALENDAR