BEGIN:VCALENDAR
VERSION:2.0
PRODID:-//hacksw/handcal//NONSGML v1.0//EN
BEGIN:VEVENT
DTSTART:20250402T110000Z
DTEND:20250416T210000Z
LOCATION:Bordeaux
ORGANIZER;CN=Jean-Pierre GASSIAN - Mines Oenologie:MAILTO:gassian@noos.fr
SUMMARY:Week End Mines Oenologie Bordeaux - Paiement du solde
DESCRIPTION:Cet événement est ouvert aux participants au week end à Bordeaux des 5/6 Avril 2025 pour régler le solde (120€ par personne participant).
URL:https://inter-mines.org/fr/group/mines-oenologie/59/calendar/week-end-mines-oenologie-bordeaux-paiement-du-solde/2025/04/02/2327
BEGIN:VALARM
TRIGGER:-P0DT1H0M0S
ACTION:DISPLAY
END:VALARM
END:VEVENT
END:VCALENDAR