BEGIN:VCALENDAR
VERSION:2.0
PRODID:-//hacksw/handcal//NONSGML v1.0//EN
BEGIN:VEVENT
DTSTART:20250219T183000Z
DTEND:20250219T220000Z
LOCATION:Maison franco-hongroise \n7, Rue de la Poudrière \n69001 LYON
ORGANIZER;CN=Sebastien MSEA - Inter-Mines Rhône-Alpes:MAILTO:associationalumni042@gmail.com
SUMMARY:Mines Oenologie : Hongrie volcanique
DESCRIPTION:Dans le cadre du « Furmint Février » (*), en association avec la Maison de la Hongrie, le groupe régional Rhône-Alpes du club Mines-œnologie est heureux de vous annoncer une animation sur le thème...
URL:https://inter-mines.org/fr/group/inter-mines-rhone-alpes/33/calendar/mines-oenologie-hongrie-volcanique/2025/02/19/2213
BEGIN:VALARM
TRIGGER:-P0DT1H0M0S
ACTION:DISPLAY
END:VALARM
END:VEVENT
END:VCALENDAR