BEGIN:VCALENDAR
VERSION:2.0
PRODID:-//hacksw/handcal//NONSGML v1.0//EN
BEGIN:VEVENT
DTSTART:20241129T180000
DTEND:20241129T193000
LOCATION:
ORGANIZER;CN=Nathalie Cremezi - Mines Oenologie:MAILTO:nathalie.cremezi@inter-mines.org
SUMMARY:Visioconférence sur les Vins de Nouvelle Zélande
DESCRIPTION: Après une visio-conférence appréciée sur les vins d'Afrique du sud, le groupe Mines oenologie vous propose de continuer le tour de l'hémisphère sud.  Lors de cette nouvelle session, nous parlerons...
URL:https://inter-mines.org/fr/group/mines-oenologie/59/calendar/visioconference-sur-les-vins-de-nouvelle-zelande/2024/11/29/2117
BEGIN:VALARM
TRIGGER:-P0DT1H0M0S
ACTION:DISPLAY
END:VALARM
END:VEVENT
END:VCALENDAR