BEGIN:VCALENDAR
VERSION:2.0
PRODID:-//hacksw/handcal//NONSGML v1.0//EN
BEGIN:VEVENT
DTSTART:20240614T100000
DTEND:20240614T140000
LOCATION:Opoul Périllos \n66600 Opoul Périllos
ORGANIZER;CN=Nicolas COSTES - Intermines Languedoc-Roussillon:MAILTO:nicolascostes87@gmail.com
SUMMARY:Visites de centrales électriques : solaire et éolienne - Pyrénées Orientales
DESCRIPTION:Visite d'un parc éolien et d'une centrale photovoltaïqueCher(e) camarade,Nous avons le plaisir de vous inviter à une visite guidée exceptionnelle du parc éolien d’Opoul et de la centrale...
URL:https://inter-mines.org/fr/group/intermines-languedoc-roussillon/30/calendar/visites-de-centrales-electriques-solaire-et-eolienne-pyrenees-orientales/2024/06/14/1932
BEGIN:VALARM
TRIGGER:-P0DT1H0M0S
ACTION:DISPLAY
END:VALARM
END:VEVENT
END:VCALENDAR